BEGIN:VCALENDAR
VERSION:2.0
PRODID:-//McLean County Farm Bureau - ECPv6.15.20//NONSGML v1.0//EN
CALSCALE:GREGORIAN
METHOD:PUBLISH
X-ORIGINAL-URL:https://www.mcfb.org
X-WR-CALDESC:Events for McLean County Farm Bureau
REFRESH-INTERVAL;VALUE=DURATION:PT1H
X-Robots-Tag:noindex
X-PUBLISHED-TTL:PT1H
BEGIN:VTIMEZONE
TZID:America/Chicago
BEGIN:DAYLIGHT
TZOFFSETFROM:-0600
TZOFFSETTO:-0500
TZNAME:CDT
DTSTART:20230312T080000
END:DAYLIGHT
BEGIN:STANDARD
TZOFFSETFROM:-0500
TZOFFSETTO:-0600
TZNAME:CST
DTSTART:20231105T070000
END:STANDARD
BEGIN:DAYLIGHT
TZOFFSETFROM:-0600
TZOFFSETTO:-0500
TZNAME:CDT
DTSTART:20240310T080000
END:DAYLIGHT
BEGIN:STANDARD
TZOFFSETFROM:-0500
TZOFFSETTO:-0600
TZNAME:CST
DTSTART:20241103T070000
END:STANDARD
BEGIN:DAYLIGHT
TZOFFSETFROM:-0600
TZOFFSETTO:-0500
TZNAME:CDT
DTSTART:20250309T080000
END:DAYLIGHT
BEGIN:STANDARD
TZOFFSETFROM:-0500
TZOFFSETTO:-0600
TZNAME:CST
DTSTART:20251102T070000
END:STANDARD
END:VTIMEZONE
BEGIN:VEVENT
DTSTART;TZID=America/Chicago:20241002T160000
DTEND;TZID=America/Chicago:20241002T190000
DTSTAMP:20260424T204715
CREATED:20240913T185656Z
LAST-MODIFIED:20240916T183952Z
UID:11767-1727884800-1727895600@www.mcfb.org
SUMMARY:Harvest Fun Night
DESCRIPTION:Join us for some fall fun at Rader Family Farms just west of Normal\, sponsored by McLean County Farm Bureau Young Leaders. \nKids & families welcome! Activities available 4 – 6 p.m. Wristbands will be available for pick-up at the farm activity entrance starting at 3:45 p.m. \nLast entry for the Corn Maze is at 5 p.m. \n6 p.m. – Supper provided \n6:30 p.m. – Speaker(s): Rader Family Farms \nFree for Professional/Voting & Collegiate Farm Bureau members! Registration deadline Sept. 30.
URL:https://www.mcfb.org/event/harvest-fun-night-3/
LOCATION:Rader Family Farms\, 1312 Ropp Rd\, Normal\, IL\, 61761
ATTACH;FMTTYPE=image/png:https://www.mcfb.org/wp-content/uploads/2024/09/Harvest-Fun-Night-Email-Header.png
END:VEVENT
END:VCALENDAR