BEGIN:VCALENDAR
VERSION:2.0
PRODID:-//McLean County Farm Bureau - ECPv6.15.20//NONSGML v1.0//EN
CALSCALE:GREGORIAN
METHOD:PUBLISH
X-ORIGINAL-URL:https://www.mcfb.org
X-WR-CALDESC:Events for McLean County Farm Bureau
REFRESH-INTERVAL;VALUE=DURATION:PT1H
X-Robots-Tag:noindex
X-PUBLISHED-TTL:PT1H
BEGIN:VTIMEZONE
TZID:America/Chicago
BEGIN:DAYLIGHT
TZOFFSETFROM:-0600
TZOFFSETTO:-0500
TZNAME:CDT
DTSTART:20250309T080000
END:DAYLIGHT
BEGIN:STANDARD
TZOFFSETFROM:-0500
TZOFFSETTO:-0600
TZNAME:CST
DTSTART:20251102T070000
END:STANDARD
BEGIN:DAYLIGHT
TZOFFSETFROM:-0600
TZOFFSETTO:-0500
TZNAME:CDT
DTSTART:20260308T080000
END:DAYLIGHT
BEGIN:STANDARD
TZOFFSETFROM:-0500
TZOFFSETTO:-0600
TZNAME:CST
DTSTART:20261101T070000
END:STANDARD
BEGIN:DAYLIGHT
TZOFFSETFROM:-0600
TZOFFSETTO:-0500
TZNAME:CDT
DTSTART:20270314T080000
END:DAYLIGHT
BEGIN:STANDARD
TZOFFSETFROM:-0500
TZOFFSETTO:-0600
TZNAME:CST
DTSTART:20271107T070000
END:STANDARD
END:VTIMEZONE
BEGIN:VEVENT
DTSTART;TZID=America/Chicago:20260302T100000
DTEND;TZID=America/Chicago:20260302T150000
DTSTAMP:20260421T075231
CREATED:20251210T181352Z
LAST-MODIFIED:20251210T181352Z
UID:12967-1772445600-1772463600@www.mcfb.org
SUMMARY:Focus on the Future: Sustaining Farm Legacy
DESCRIPTION:Illinois Extension and Illinois Farm Bureau will host Focus on the Future in Champaign on March 2\, 2026 from 10am-3pm at the I Hotel & Conference Center. The day will  cover practical topics that matter to Illinois farmland owners & agricultural stakeholders\, including: \n\nBuilding Strong Landowner-Tenant Relationships: Tips for clear and effective communication to ensure successful farm management.\nUnderstanding Today’s Farm Economics: Gain insights from experts like Jonathan Coppess and Gary Schnitkey to help navigate current financial challenges.\nConservation and Sustainability Updates: Learn about the Illinois Nutrient Loss Reduction Strategy and current efforts to improve soil health and water quality through agricultural conservation practices.\nRegional Focus: A spotlight on issues and opportunities unique to your area.\nNetworking and Discussion: Connect with other landowners and professionals\, share experiences\, and enjoy lunch while discussing what matters most to your operation.\n\nRegistration is required both in-person & zoom options are available. The cost is $20. Click here for more details & to register.
URL:https://www.mcfb.org/event/focus-on-the-future-sustaining-farm-legacy/
LOCATION:I Hotel & Conference Center\, 1900 S 1st St\, Champaign\, IL\, 61820\, United States
END:VEVENT
BEGIN:VEVENT
DTSTART;TZID=America/Chicago:20260303T180000
DTEND;TZID=America/Chicago:20260303T193000
DTSTAMP:20260421T075231
CREATED:20260202T190744Z
LAST-MODIFIED:20260202T190744Z
UID:13105-1772560800-1772566200@www.mcfb.org
SUMMARY:Rules for the Road - Gilman
DESCRIPTION:Sit in this workshop at Ford-Iroquois Farm Bureau to hear updates about new trucking regulations and get your transportation questions answered with with Illinois Farm Bureau transportation expert\, Rodney Knittel.
URL:https://www.mcfb.org/event/rules-for-the-road-gilman-2/
LOCATION:Ford-Iroquois County Farm Bureau\, 1381 S Crescent Street\, Gilman\, IL\, 60938\, United States
ATTACH;FMTTYPE=image/png:https://www.mcfb.org/wp-content/uploads/2026/02/D25-GAC_Transportation_RFTR_2026_FW_QP_1.png
END:VEVENT
BEGIN:VEVENT
DTSTART;TZID=America/Chicago:20260317T060000
DTEND;TZID=America/Chicago:20260317T190000
DTSTAMP:20260421T075231
CREATED:20260212T202334Z
LAST-MODIFIED:20260212T202334Z
UID:13170-1773727200-1773774000@www.mcfb.org
SUMMARY:Primary Election - Go Vote!
DESCRIPTION:Primary Elections will take place March 17\, 2026. \nOffices on the ballot include: \n\nU.S. Senate (1 seat)\nU.S. Representative\nIL General Assembly – House & Senate\nStatewide offices – Governor\, Secretary of State\, Treasurer & Comptroller\nCounty Board & Countywide offices\nReferenda for specific taxing bodies\n\nThree ways to cast your ballot: \n\nVote by Mail: Request a mail-in ballot by March 12\nVote Early: Feb. 5 – March 16 Click here for times & locations\nVote on Election Day – March 17: polls open 6 a.m. – 7 p.m.\n\nFind specimen ballots: click here (or Bloomington voters click here)
URL:https://www.mcfb.org/event/primary-election-go-vote-2/
LOCATION:IL
ATTACH;FMTTYPE=image/png:https://www.mcfb.org/wp-content/uploads/2026/02/26_GOTV_PrimaryElection.png
END:VEVENT
BEGIN:VEVENT
DTSTART;TZID=America/Chicago:20260318T070000
DTEND;TZID=America/Chicago:20260318T200000
DTSTAMP:20260421T075231
CREATED:20260119T181317Z
LAST-MODIFIED:20260119T181317Z
UID:13081-1773817200-1773864000@www.mcfb.org
SUMMARY:McLean County Chamber Ag Awareness Breakfast
DESCRIPTION:McLean County Chamber of Commerce is hosting its 24th Ag Awareness Breakfast at the McLean County Fairgrounds on March 18th at 7:00am. The breakfast is open to the community. The program will highlight FFA Service Award winners\, scholarship winners\, and a keynote speaker. Click here for more information and to RSVP.
URL:https://www.mcfb.org/event/mclean-county-chamber-ag-awareness-breakfast/
LOCATION:IL
ATTACH;FMTTYPE=image/png:https://www.mcfb.org/wp-content/uploads/2026/01/26-AGBreakfast-SocialPost.png
END:VEVENT
BEGIN:VEVENT
DTSTART;TZID=America/Chicago:20260319T120000
DTEND;TZID=America/Chicago:20260319T133000
DTSTAMP:20260421T075231
CREATED:20260202T191338Z
LAST-MODIFIED:20260202T191338Z
UID:13107-1773921600-1773927000@www.mcfb.org
SUMMARY:Rules for the Road - Virtual
DESCRIPTION:Join the Rules for the Road seminar from wherever you get service to hear updates about new trucking regulations and get your transportation questions answered with with Illinois Farm Bureau transportation expert\, Rodney Knittel. A link will be sent to closer to the event date & a hard copy of the handbook will be mailed to your address.
URL:https://www.mcfb.org/event/rules-for-the-road-virtual/
LOCATION:IL
ATTACH;FMTTYPE=image/png:https://www.mcfb.org/wp-content/uploads/2026/02/D25-GAC_Transportation_RFTR_2026_FW_QP_2.png
END:VEVENT
END:VCALENDAR