BEGIN:VCALENDAR
VERSION:2.0
PRODID:-//McLean County Farm Bureau - ECPv6.15.20//NONSGML v1.0//EN
CALSCALE:GREGORIAN
METHOD:PUBLISH
X-WR-CALNAME:McLean County Farm Bureau
X-ORIGINAL-URL:https://www.mcfb.org
X-WR-CALDESC:Events for McLean County Farm Bureau
REFRESH-INTERVAL;VALUE=DURATION:PT1H
X-Robots-Tag:noindex
X-PUBLISHED-TTL:PT1H
BEGIN:VTIMEZONE
TZID:America/Chicago
BEGIN:DAYLIGHT
TZOFFSETFROM:-0600
TZOFFSETTO:-0500
TZNAME:CDT
DTSTART:20240310T080000
END:DAYLIGHT
BEGIN:STANDARD
TZOFFSETFROM:-0500
TZOFFSETTO:-0600
TZNAME:CST
DTSTART:20241103T070000
END:STANDARD
BEGIN:DAYLIGHT
TZOFFSETFROM:-0600
TZOFFSETTO:-0500
TZNAME:CDT
DTSTART:20250309T080000
END:DAYLIGHT
BEGIN:STANDARD
TZOFFSETFROM:-0500
TZOFFSETTO:-0600
TZNAME:CST
DTSTART:20251102T070000
END:STANDARD
BEGIN:DAYLIGHT
TZOFFSETFROM:-0600
TZOFFSETTO:-0500
TZNAME:CDT
DTSTART:20260308T080000
END:DAYLIGHT
BEGIN:STANDARD
TZOFFSETFROM:-0500
TZOFFSETTO:-0600
TZNAME:CST
DTSTART:20261101T070000
END:STANDARD
END:VTIMEZONE
BEGIN:VEVENT
DTSTART;TZID=America/Chicago:20251204T113000
DTEND;TZID=America/Chicago:20251204T130000
DTSTAMP:20260421T111010
CREATED:20251030T195402Z
LAST-MODIFIED:20251107T202401Z
UID:12874-1764847800-1764853200@www.mcfb.org
SUMMARY:Prime Timers Christmas Luncheon
DESCRIPTION:Farm Bureau members of retirement age are invited to the annual Prime Timers Christmas luncheon on Thursday\, December 4\, at 11:30 a.m. in the Mini Expo building at the McLean County Fairgrounds in Bloomington. \nA catered meal will be provided along with musical entertainment. The luncheon is free\, but reservations are required by November 21.
URL:https://www.mcfb.org/event/prime-timers-christmas-luncheon-6/
LOCATION:McLean County Fairgrounds\, 1106 Interstate Drive\, Bloomington\, IL\, 61705\, United States
END:VEVENT
BEGIN:VEVENT
DTSTART;TZID=America/Chicago:20251210T140000
DTEND;TZID=America/Chicago:20251210T150000
DTSTAMP:20260421T111010
CREATED:20251201T170021Z
LAST-MODIFIED:20251201T172037Z
UID:12960-1765375200-1765378800@www.mcfb.org
SUMMARY:Young Leaders Tour at Brandt Factory
DESCRIPTION:The Young Leader group has the opportunity to tour the Brandt factory during production hours to see the “behind the scenes” how ag equipment is manufactured. The tour is December 10 at 2:00pm just north of Bloomington-Normal\, 19500 N CR 1425E\, Hudson. \n \n 
URL:https://www.mcfb.org/event/young-leaders-tour-at-brandt-factory/
LOCATION:IL
ATTACH;FMTTYPE=image/png:https://www.mcfb.org/wp-content/uploads/2025/12/2.png
END:VEVENT
BEGIN:VEVENT
DTSTART;TZID=America/Chicago:20251211T080000
DTEND;TZID=America/Chicago:20251211T150000
DTSTAMP:20260421T111010
CREATED:20251124T191909Z
LAST-MODIFIED:20251124T191909Z
UID:12935-1765440000-1765465200@www.mcfb.org
SUMMARY:Private Applicator Training
DESCRIPTION:Need to recertify your private applicator license? There are several training & testing locations in the area this winter. Trainings start at 8:00am & testing begins at 12:00pm. \n\nDecember 11 – Champaign\nFebruary 10 – Springfield\nFebruary 25 – Peoria
URL:https://www.mcfb.org/event/private-applicator-training/
LOCATION:Champaign Holiday Inn
END:VEVENT
BEGIN:VEVENT
DTSTART;TZID=America/Chicago:20251212T080000
DTEND;TZID=America/Chicago:20251212T160000
DTSTAMP:20260421T111010
CREATED:20251009T204523Z
LAST-MODIFIED:20251112T194610Z
UID:12845-1765526400-1765555200@www.mcfb.org
SUMMARY:2025 Farm Assets Conference
DESCRIPTION:The Farm Assets Conference is scheduled for Friday\, December 12\, at the Agri-Center in Bloomington. The day-long event is packed with numerous speakers and costs $80 to register. \nClick here for more information and to register.  \nAgenda: \nLET’S TALK FUNDAMENTALS\n8:00 Commodity Price Outlook\n– Joe Janzen\, University of Illinois \n8:20 Livestock Price Outlook\n– Brittney Goodrich\, University of Illinois \n8:40 Crop Budgets and Farm Management\n– Nick Paulson\, University of Illinois \n9:00 Trade\, Transportation\, and the Global Grain Markets.\n– Collin Watters\, Illinois Corn Growers Association\n– Mark Wilson\, Chair United States Grains and BioProducts Council \nDEMAND ON THE HORIZON\n9:45 Signs Point to a Bullish Biofuels Policy\n– Scott Irwin\, University of Illinois \n10:30 BioManufacturing and the Future of Ag\n– Ismael Nieves\, General Manager\, Primient iPROOF\n– Vijay Singh\, IBRL University of Illinois \n11:00 Ag Policy Objectives and Prospects\n– Jonathan Coppess\, University of Illinois\n– Andrew Larson\, Illinois Soybean Association\n– Brad Stotler\, Illinois Corn Growers Association \nSPREADSHEETS AND MUDDY BOOTS\n1:00 Why you should use the N-Rate Calculator\n– Gary Schnitkey\, University of Illinois Ag Economist\n– Laura Gentry\, Illinois Corn Growers Association\n– John Jones\, University of Illinois Soil Fertility \n2:00 Crop Sciences for the 2026 Growing Season\n– Aaron Hager\, University of Illinois Weed Scientist\n– Nick Seiter\, University of Illinois Field Crops Entomologist\n– Stephanie Porter Illinois Soybean Associaton Agronomist \nRESEARCH\, OUTREACH\, AND WORKING TOGETHER\n3:00 Round Table with the Ag Leadership\n– Jennifer Tirey\, Illinois Pork Producers Association\n– Rodney Weinzierl\, Illinois Corn Growers Association\n– Matthew Vann\, Director University of Illinois Extension
URL:https://www.mcfb.org/event/2025-farm-assets-conference/
LOCATION:AgriCenter\, 14171 Carole Drive\, Bloomington\, IL
ATTACH;FMTTYPE=image/jpeg:https://www.mcfb.org/wp-content/uploads/2025/10/489154636_1220472959872354_5825569517571160584_n.jpg
ORGANIZER;CN="University of Illinois Extension farmdoc":MAILTO:nsimp1@illinois.edu
END:VEVENT
BEGIN:VEVENT
DTSTART;TZID=America/Chicago:20251218T180000
DTEND;TZID=America/Chicago:20251218T213000
DTSTAMP:20260421T111010
CREATED:20251010T181010Z
LAST-MODIFIED:20251112T193927Z
UID:12855-1766080800-1766093400@www.mcfb.org
SUMMARY:Dinner & Holiday Show: Plaid Tidings at Barn III
DESCRIPTION:Celebrate the holiday season while enjoying company with McLean County Farm Bureau & Woodford County Farm Bureau members at the Barn III on December 18. Dinner and the performance of Plaid Tidings are included in the ticket price. \nLimited to 80 tickets on a first-come\, first-served basis. Tickets are $65 for members. RSVPs are due by November 25th.\n– Arrival Time – 5:30 to 6:30 PM (dinner will be ordered once seated)\n– Performance – 7:30 PM (anticipate no longer than 2 hours) \nSecure your spot here! \n  \nAbout the Performance\nPlaid Tidings. A Special Holiday Edition of Forever Plaid \nFrancis\, Jinx\, Smudge\, and Sparky aren’t sure why they’ve returned to Earth for another posthumous performance\, but a phone call from the heavenly Rosemary Clooney lets them know that they’re needed to put a little harmony into a discordant world. Sprinkled among the Christmas offerings are audience favorites\, like their riotous three-minute-and-eleven-second version of The Ed Sullivan Show – this time\, featuring the Rockettes\, the Chipmunks\, and the Vienna Boys Choir\, as well as a Plaid Caribbean Christmas that puts the “Day-O’ in Excelsis! The perfect Barn reunion performance for the Holiday Season!
URL:https://www.mcfb.org/event/dinner-holiday-show-plaid-tidings-at-barn-iii/
LOCATION:the Barn III\, 1451 Timberline Rd\, Goodfield\, IL\, 61742
ATTACH;FMTTYPE=image/png:https://www.mcfb.org/wp-content/uploads/2025/10/Winter-Show.png
END:VEVENT
BEGIN:VEVENT
DTSTART;VALUE=DATE:20251224
DTEND;VALUE=DATE:20251225
DTSTAMP:20260421T111010
CREATED:20251126T214755Z
LAST-MODIFIED:20251126T214755Z
UID:12952-1766534400-1766620799@www.mcfb.org
SUMMARY:Christmas Eve - Office Closed
DESCRIPTION:
URL:https://www.mcfb.org/event/christmas-eve-office-closed/
LOCATION:IL
END:VEVENT
BEGIN:VEVENT
DTSTART;VALUE=DATE:20251225
DTEND;VALUE=DATE:20251226
DTSTAMP:20260421T111010
CREATED:20251126T214705Z
LAST-MODIFIED:20251126T214717Z
UID:12949-1766620800-1766707199@www.mcfb.org
SUMMARY:Merry Christmas! - Office Closed
DESCRIPTION:
URL:https://www.mcfb.org/event/merry-christmas-office-closed/
LOCATION:IL
END:VEVENT
BEGIN:VEVENT
DTSTART;VALUE=DATE:20251231
DTEND;VALUE=DATE:20260101
DTSTAMP:20260421T111010
CREATED:20251126T214909Z
LAST-MODIFIED:20251126T214909Z
UID:12954-1767139200-1767225599@www.mcfb.org
SUMMARY:New Years Eve - Office Closed
DESCRIPTION:
URL:https://www.mcfb.org/event/new-years-eve-office-closed/
LOCATION:IL
END:VEVENT
END:VCALENDAR