BEGIN:VCALENDAR
VERSION:2.0
PRODID:-//McLean County Farm Bureau - ECPv6.15.20//NONSGML v1.0//EN
CALSCALE:GREGORIAN
METHOD:PUBLISH
X-WR-CALNAME:McLean County Farm Bureau
X-ORIGINAL-URL:https://www.mcfb.org
X-WR-CALDESC:Events for McLean County Farm Bureau
REFRESH-INTERVAL;VALUE=DURATION:PT1H
X-Robots-Tag:noindex
X-PUBLISHED-TTL:PT1H
BEGIN:VTIMEZONE
TZID:America/Chicago
BEGIN:DAYLIGHT
TZOFFSETFROM:-0600
TZOFFSETTO:-0500
TZNAME:CDT
DTSTART:20240310T080000
END:DAYLIGHT
BEGIN:STANDARD
TZOFFSETFROM:-0500
TZOFFSETTO:-0600
TZNAME:CST
DTSTART:20241103T070000
END:STANDARD
BEGIN:DAYLIGHT
TZOFFSETFROM:-0600
TZOFFSETTO:-0500
TZNAME:CDT
DTSTART:20250309T080000
END:DAYLIGHT
BEGIN:STANDARD
TZOFFSETFROM:-0500
TZOFFSETTO:-0600
TZNAME:CST
DTSTART:20251102T070000
END:STANDARD
BEGIN:DAYLIGHT
TZOFFSETFROM:-0600
TZOFFSETTO:-0500
TZNAME:CDT
DTSTART:20260308T080000
END:DAYLIGHT
BEGIN:STANDARD
TZOFFSETFROM:-0500
TZOFFSETTO:-0600
TZNAME:CST
DTSTART:20261101T070000
END:STANDARD
END:VTIMEZONE
BEGIN:VEVENT
DTSTART;TZID=America/Chicago:20251120T173000
DTEND;TZID=America/Chicago:20251120T203000
DTSTAMP:20260421T153719
CREATED:20251010T170358Z
LAST-MODIFIED:20251010T170358Z
UID:12851-1763659800-1763670600@www.mcfb.org
SUMMARY:Ag Awards Dinner - McLean County Chamber of Commerce
DESCRIPTION:Join the McLean County Chamber of Commerce as they honor folks who are outstanding in the field of agriculture on Nov. 20. Social hour begins at 5:30 p.m. at the Bloomington Country Club. Dinner & program at 6:30 p.m. \nCost is $60 per person. \nTo make reservations\, click here.
URL:https://www.mcfb.org/event/ag-awards-dinner-mclean-county-chamber-of-commerce-2/
LOCATION:Bloomington Country CLub\, 605 S Towanda\, Bloomington\, IL
END:VEVENT
BEGIN:VEVENT
DTSTART;VALUE=DATE:20251127
DTEND;VALUE=DATE:20251128
DTSTAMP:20260421T153719
CREATED:20251126T214448Z
LAST-MODIFIED:20251126T214448Z
UID:12945-1764201600-1764287999@www.mcfb.org
SUMMARY:Happy Thanksgiving! - Office Closed
DESCRIPTION:
URL:https://www.mcfb.org/event/happy-thanksgiving-office-closed/
LOCATION:IL
END:VEVENT
BEGIN:VEVENT
DTSTART;VALUE=DATE:20251128
DTEND;VALUE=DATE:20251129
DTSTAMP:20260421T153719
CREATED:20251126T214552Z
LAST-MODIFIED:20251126T214552Z
UID:12947-1764288000-1764374399@www.mcfb.org
SUMMARY:Office Closed - Day after Thanksgiving
DESCRIPTION:
URL:https://www.mcfb.org/event/office-closed-day-after-thanksgiving/
LOCATION:IL
END:VEVENT
END:VCALENDAR