BEGIN:VCALENDAR
VERSION:2.0
PRODID:-//McLean County Farm Bureau - ECPv6.15.20//NONSGML v1.0//EN
CALSCALE:GREGORIAN
METHOD:PUBLISH
X-WR-CALNAME:McLean County Farm Bureau
X-ORIGINAL-URL:https://www.mcfb.org
X-WR-CALDESC:Events for McLean County Farm Bureau
REFRESH-INTERVAL;VALUE=DURATION:PT1H
X-Robots-Tag:noindex
X-PUBLISHED-TTL:PT1H
BEGIN:VTIMEZONE
TZID:America/Chicago
BEGIN:DAYLIGHT
TZOFFSETFROM:-0600
TZOFFSETTO:-0500
TZNAME:CDT
DTSTART:20240310T080000
END:DAYLIGHT
BEGIN:STANDARD
TZOFFSETFROM:-0500
TZOFFSETTO:-0600
TZNAME:CST
DTSTART:20241103T070000
END:STANDARD
BEGIN:DAYLIGHT
TZOFFSETFROM:-0600
TZOFFSETTO:-0500
TZNAME:CDT
DTSTART:20250309T080000
END:DAYLIGHT
BEGIN:STANDARD
TZOFFSETFROM:-0500
TZOFFSETTO:-0600
TZNAME:CST
DTSTART:20251102T070000
END:STANDARD
BEGIN:DAYLIGHT
TZOFFSETFROM:-0600
TZOFFSETTO:-0500
TZNAME:CDT
DTSTART:20260308T080000
END:DAYLIGHT
BEGIN:STANDARD
TZOFFSETFROM:-0500
TZOFFSETTO:-0600
TZNAME:CST
DTSTART:20261101T070000
END:STANDARD
END:VTIMEZONE
BEGIN:VEVENT
DTSTART;TZID=America/Chicago:20251001T160000
DTEND;TZID=America/Chicago:20251001T190000
DTSTAMP:20260421T153722
CREATED:20250908T145439Z
LAST-MODIFIED:20250908T145439Z
UID:12780-1759334400-1759345200@www.mcfb.org
SUMMARY:Harvest Fun Night
DESCRIPTION:Join us for some fall fun at Rader Family Farms just west of Normal\, sponsored by McLean County Farm Bureau Young Leaders. Kids & families welcome! Activities are available from 4 – 6 p.m. Dinner will be provided at 6 p.m. & we will hear from Rader Family Farms speakers at 6:30 p.m. \nFree for Professional\, Voting & Collegiate Farm Bureau members!
URL:https://www.mcfb.org/event/harvest-fun-night-4/
LOCATION:Rader Family Farms\, 1312 Ropp Rd\, Normal\, IL\, 61761
ATTACH;FMTTYPE=image/png:https://www.mcfb.org/wp-content/uploads/2025/09/2025-Harvest-Fun-Night-Email.png
END:VEVENT
BEGIN:VEVENT
DTSTART;TZID=America/Chicago:20251009T120000
DTEND;TZID=America/Chicago:20251009T130000
DTSTAMP:20260421T153722
CREATED:20250804T153857Z
LAST-MODIFIED:20250804T153857Z
UID:12711-1760011200-1760014800@www.mcfb.org
SUMMARY:COUNTRY Financial Lunch & Learn
DESCRIPTION:Bring your lunch to the McLean County Museum of History on Thursday\, October 9\, from 12:10 to 1:00 p.m. to learn about COUNTRY Financial\, as they celebrate their 100th anniversary or watch online here \nAndy Bender\, Senior Vice President and Deputy General Counsel for COUNTRY and the Illinois Farm Bureau (and unofficial historian)\, will present a program featuring important milestones from the company’s 100-year history and showcasing items from the Illinois Farm Bureau archives. Bender will also share a sneak peek of items that will be preserved in a time capsule later in 2025 to commemorate the anniversary. \n 
URL:https://www.mcfb.org/event/country-financial-lunch-learn/
LOCATION:McLean County Museum of History\, 200 N Main St.\, Bloomington\, IL
END:VEVENT
BEGIN:VEVENT
DTSTART;TZID=America/Chicago:20251014T130000
DTEND;TZID=America/Chicago:20251014T150000
DTSTAMP:20260421T153723
CREATED:20251007T135722Z
LAST-MODIFIED:20251007T135722Z
UID:12827-1760446800-1760454000@www.mcfb.org
SUMMARY:Anhydrous Ammonia Certified Grower Training
DESCRIPTION:  \nFor more information and to register\, visit www.ilfb.org/nh3
URL:https://www.mcfb.org/event/anhydrous-ammonia-certified-grower-training-6/
LOCATION:ASMARK Agricenter
END:VEVENT
BEGIN:VEVENT
DTSTART;TZID=America/Chicago:20251014T170000
DTEND;TZID=America/Chicago:20251014T190000
DTSTAMP:20260421T153723
CREATED:20251007T141018Z
LAST-MODIFIED:20251007T141018Z
UID:12832-1760461200-1760468400@www.mcfb.org
SUMMARY:McLean County Strategic Land Use Plan Public Open House
DESCRIPTION:The McLean County Regional Planning Commission is looking for feedback on the second draft of the McLean County Strategic Land Use Plan. There are two public open houses to discuss this plan on October 14 from 5:00-7:00 PM at the Downs Community Fire Department & October 16 from 5:00-7:00 PM at Heartland Community College\, Community Commons Building. \nReview the plan and make comments on this website: https://sites.google.com/view/strategic-land-use-map/home
URL:https://www.mcfb.org/event/mclean-county-strategic-land-use-plan-public-open-house/
LOCATION:Downs Community Fire Department
END:VEVENT
BEGIN:VEVENT
DTSTART;TZID=America/Chicago:20251014T183000
DTEND;TZID=America/Chicago:20251014T193000
DTSTAMP:20260421T153723
CREATED:20251007T140144Z
LAST-MODIFIED:20251007T141403Z
UID:12830-1760466600-1760470200@www.mcfb.org
SUMMARY:Property Tax Assessment Public Information Session
DESCRIPTION:The McLean County Supervisor of Assessments will hold a property tax assessment public information session on October 14 at 6:30 p.m. in Room 400 of the Government Center\, 115 E. Washington St.\, Bloomington.Come learn about how property values are developed\, how and why the equalization process is done\, and how to file a complaint before the county Board of Review\, as well as learn about deductions that may be available.For more information visit https://www.mcleancountyil.gov/CivicAlerts.aspx?AID=491
URL:https://www.mcfb.org/event/property-tax-assessment-public-information-session/
LOCATION:McLean Coutny Government Center
END:VEVENT
BEGIN:VEVENT
DTSTART;TZID=America/Chicago:20251016T170000
DTEND;TZID=America/Chicago:20251016T190000
DTSTAMP:20260421T153723
CREATED:20251007T141238Z
LAST-MODIFIED:20251007T141238Z
UID:12840-1760634000-1760641200@www.mcfb.org
SUMMARY:McLean County Strategic Land Use Plan Public Open House
DESCRIPTION:The McLean County Regional Planning Commission is looking for feedback on the second draft of the McLean County Strategic Land Use Plan. There are two public open houses to discuss this plan on October 14 from 5:00-7:00 PM at the Downs Community Fire Department & October 16 from 5:00-7:00 PM at Heartland Community College\, Community Commons Building. \nReview the plan and make comments on this website: https://sites.google.com/view/strategic-land-use-map/home
URL:https://www.mcfb.org/event/mclean-county-strategic-land-use-plan-public-open-house-2/
LOCATION:Heartland Commuity College\, 1500 W Raab Rd\, Normal\, IL\, 61761\, United States
END:VEVENT
BEGIN:VEVENT
DTSTART;TZID=America/Chicago:20251023T113000
DTEND;TZID=America/Chicago:20251023T130000
DTSTAMP:20260421T153723
CREATED:20250929T214805Z
LAST-MODIFIED:20250929T214805Z
UID:12824-1761219000-1761224400@www.mcfb.org
SUMMARY:Prime Timers
DESCRIPTION:Prime Timers will meet on Thursday\, October 23\, at 11:30 a.m. at the McLean County Farm Bureau Office\, 2242 Westgate Drive\, Bloomington.\n \nLunch will be available for $5 per person (sandwiches from Jason’s Deli). Reservations for lunch are required by October 21. \nThe Prime Timers group is geared towards any Farm Bureau members of retirement age.
URL:https://www.mcfb.org/event/prime-timers-9/
LOCATION:McLean County Farm Bureau\, 2242 Westgate Drive\, Bloomington\, IL\, 61705\, United States
END:VEVENT
BEGIN:VEVENT
DTSTART;TZID=America/Chicago:20251030T080000
DTEND;TZID=America/Chicago:20251030T170000
DTSTAMP:20260421T153723
CREATED:20251008T160002Z
LAST-MODIFIED:20251008T160002Z
UID:12843-1761811200-1761843600@www.mcfb.org
SUMMARY:Illinois Wheat Development Board Election
DESCRIPTION:The Illinois Department of Agriculture announced today the following Illinois wheat producers have met the qualifications required to be placed on the ballot for the upcoming October 30\, 2025\, Illinois Wheat Development Board election. In person voting will take place at McLean County Farm Bureau from 8:00 AM – 5:00 PM. \n“Illinois wheat producers play an important role in both our state’s agricultural strength and the nation’s food supply\,” said Jerry Costello II\, Director of the Illinois Department of Agriculture. “By working together and sharing their perspectives\, growers can help ensure continued innovation\, market growth\, and long-term success for the industry.” \nAt-Large Candidates (3): Brandon Warren\, Wayne County; John Howell\, Randoph County; No Candidate \nDistrict I: No Candidate \nDistrict II: Dean Campbell Madison County \nDistrict III: Ross Holscher Crawford County \nDistrict IV: Steve Launis Washington County \nDistrict V: No Candidate \nDistrict VI: Jamie Harvel Clay County \nQualified producers interested in serving as an At-Large or District Board member may participate in the October 30\, 2025\, election as a write in candidate. Producers must be of legal voting age\, reside in the district for which they are running and be a qualified producer of wheat. \nAbsentee ballots are available to those not available to vote in person by contacting the Illinois Department of Agriculture at 217-524-1083 or by email at agr.marketnews.illinois.gov.
URL:https://www.mcfb.org/event/illinois-wheat-development-board-election/
LOCATION:McLean County Farm Bureau\, 2242 Westgate Drive\, Bloomington\, IL\, 61705\, United States
END:VEVENT
END:VCALENDAR