BEGIN:VCALENDAR
VERSION:2.0
PRODID:-//McLean County Farm Bureau - ECPv6.15.20//NONSGML v1.0//EN
CALSCALE:GREGORIAN
METHOD:PUBLISH
X-ORIGINAL-URL:https://www.mcfb.org
X-WR-CALDESC:Events for McLean County Farm Bureau
REFRESH-INTERVAL;VALUE=DURATION:PT1H
X-Robots-Tag:noindex
X-PUBLISHED-TTL:PT1H
BEGIN:VTIMEZONE
TZID:America/Chicago
BEGIN:DAYLIGHT
TZOFFSETFROM:-0600
TZOFFSETTO:-0500
TZNAME:CDT
DTSTART:20240310T080000
END:DAYLIGHT
BEGIN:STANDARD
TZOFFSETFROM:-0500
TZOFFSETTO:-0600
TZNAME:CST
DTSTART:20241103T070000
END:STANDARD
BEGIN:DAYLIGHT
TZOFFSETFROM:-0600
TZOFFSETTO:-0500
TZNAME:CDT
DTSTART:20250309T080000
END:DAYLIGHT
BEGIN:STANDARD
TZOFFSETFROM:-0500
TZOFFSETTO:-0600
TZNAME:CST
DTSTART:20251102T070000
END:STANDARD
BEGIN:DAYLIGHT
TZOFFSETFROM:-0600
TZOFFSETTO:-0500
TZNAME:CDT
DTSTART:20260308T080000
END:DAYLIGHT
BEGIN:STANDARD
TZOFFSETFROM:-0500
TZOFFSETTO:-0600
TZNAME:CST
DTSTART:20261101T070000
END:STANDARD
END:VTIMEZONE
BEGIN:VEVENT
DTSTART;VALUE=DATE:20250901
DTEND;VALUE=DATE:20250902
DTSTAMP:20260421T111046
CREATED:20250818T211506Z
LAST-MODIFIED:20250818T211506Z
UID:12750-1756684800-1756771199@www.mcfb.org
SUMMARY:Labor Day - Office Closed
DESCRIPTION:
URL:https://www.mcfb.org/event/labor-day-office-closed-6/
LOCATION:IL
END:VEVENT
BEGIN:VEVENT
DTSTART;TZID=America/Chicago:20250903T180000
DTEND;TZID=America/Chicago:20250903T200000
DTSTAMP:20260421T111046
CREATED:20250813T155605Z
LAST-MODIFIED:20250813T155605Z
UID:12741-1756922400-1756929600@www.mcfb.org
SUMMARY:Young Leaders at BloNo Pizza
DESCRIPTION:Join the McLean County Young Leaders at BloNo Pizza Co on Wednesday\, September 3rd at 6:00 PM. Our speakers\, Tasha Bunting & Lindsay Croke\, will discuss the current hot topics in the agriculture industry and provide guidance on navigating those conversations with the general public. \nAfter the presentation\, there will be time to network and enjoy golf. 2 golf bays are available with our event space. Appetizers will be provided. Additionally drinks & food can be purchased.
URL:https://www.mcfb.org/event/young-leaders-at-blono-pizza/
LOCATION:BloNo Pizza Co\, 1304 Cross Creek Drive\, Normal\, IL\, 61761\, United States
ATTACH;FMTTYPE=image/png:https://www.mcfb.org/wp-content/uploads/2025/08/YL-BloNo-2.png
END:VEVENT
BEGIN:VEVENT
DTSTART;TZID=America/Chicago:20250916T183000
DTEND;TZID=America/Chicago:20250916T193000
DTSTAMP:20260421T111046
CREATED:20250804T153019Z
LAST-MODIFIED:20250804T153102Z
UID:12706-1758047400-1758051000@www.mcfb.org
SUMMARY:100 Years of COUNTRY Financial: Making a Home in the Twin Cities
DESCRIPTION:Join McLean County Museum of History Librarian Bill Kemp for a program celebrating the 100th anniversary of the founding of COUNTRY Financial. This free public program will be held in-person in the Museum’s second-floor courtroom and live-streamed here on Tuesday\, September 16 at 6:30 p.m.\n\nThe program will examine the Illinois Agricultural Society / Illinois Farm Bureau and its affiliated companies (including COUNTRY) and the headquarters relocation from downtown Chicago to downstate Illinois in 1960-61. Why did the Farm Bureau make the move? Why was Bloomington selected over its many downstate competitors? How did the new relocation and influx of new employees impact the Twin Cities? The answer to these and other questions will be addressed in this profusely illustrated program.
URL:https://www.mcfb.org/event/100-years-of-country-financial-making-a-home-in-the-twin-cities/
LOCATION:McLean County Museum of History\, 200 N Main St.\, Bloomington\, IL
END:VEVENT
BEGIN:VEVENT
DTSTART;VALUE=DATE:20250929
DTEND;VALUE=DATE:20250930
DTSTAMP:20260421T111046
CREATED:20250826T185027Z
LAST-MODIFIED:20250826T185027Z
UID:12754-1759104000-1759190399@www.mcfb.org
SUMMARY:Life Line Screening
DESCRIPTION:Life Line Screening is the premier provider of stroke and cardiovascular disease risk screenings since 1993. Life Line Screening will identify your risk level for the following diseases:\n1. Carotid Artery Disease\n2. Peripheral Arterial Disease\n3. Abdominal Aortic Aneurysm\n4. Atrial Fibrillation \nClick here or call 800-324-9458 to schedule your appointment! A simple screening can be worth a lifetime.
URL:https://www.mcfb.org/event/life-line-screening/
LOCATION:McLean County Fairgrounds\, 1106 Interstate Drive\, Bloomington\, IL\, 61705\, United States
ATTACH;FMTTYPE=image/jpeg:https://www.mcfb.org/wp-content/uploads/2025/08/9-29-25-QUA-McLean-County-Fairgrounds.jpg
END:VEVENT
END:VCALENDAR