BEGIN:VCALENDAR
VERSION:2.0
PRODID:-//McLean County Farm Bureau - ECPv6.15.20//NONSGML v1.0//EN
CALSCALE:GREGORIAN
METHOD:PUBLISH
X-ORIGINAL-URL:https://www.mcfb.org
X-WR-CALDESC:Events for McLean County Farm Bureau
REFRESH-INTERVAL;VALUE=DURATION:PT1H
X-Robots-Tag:noindex
X-PUBLISHED-TTL:PT1H
BEGIN:VTIMEZONE
TZID:America/Chicago
BEGIN:DAYLIGHT
TZOFFSETFROM:-0600
TZOFFSETTO:-0500
TZNAME:CDT
DTSTART:20250309T080000
END:DAYLIGHT
BEGIN:STANDARD
TZOFFSETFROM:-0500
TZOFFSETTO:-0600
TZNAME:CST
DTSTART:20251102T070000
END:STANDARD
BEGIN:DAYLIGHT
TZOFFSETFROM:-0600
TZOFFSETTO:-0500
TZNAME:CDT
DTSTART:20260308T080000
END:DAYLIGHT
BEGIN:STANDARD
TZOFFSETFROM:-0500
TZOFFSETTO:-0600
TZNAME:CST
DTSTART:20261101T070000
END:STANDARD
BEGIN:DAYLIGHT
TZOFFSETFROM:-0600
TZOFFSETTO:-0500
TZNAME:CDT
DTSTART:20270314T080000
END:DAYLIGHT
BEGIN:STANDARD
TZOFFSETFROM:-0500
TZOFFSETTO:-0600
TZNAME:CST
DTSTART:20271107T070000
END:STANDARD
END:VTIMEZONE
BEGIN:VEVENT
DTSTART;TZID=America/Chicago:20260317T060000
DTEND;TZID=America/Chicago:20260317T190000
DTSTAMP:20260421T093729
CREATED:20260212T202334Z
LAST-MODIFIED:20260212T202334Z
UID:13170-1773727200-1773774000@www.mcfb.org
SUMMARY:Primary Election - Go Vote!
DESCRIPTION:Primary Elections will take place March 17\, 2026. \nOffices on the ballot include: \n\nU.S. Senate (1 seat)\nU.S. Representative\nIL General Assembly – House & Senate\nStatewide offices – Governor\, Secretary of State\, Treasurer & Comptroller\nCounty Board & Countywide offices\nReferenda for specific taxing bodies\n\nThree ways to cast your ballot: \n\nVote by Mail: Request a mail-in ballot by March 12\nVote Early: Feb. 5 – March 16 Click here for times & locations\nVote on Election Day – March 17: polls open 6 a.m. – 7 p.m.\n\nFind specimen ballots: click here (or Bloomington voters click here)
URL:https://www.mcfb.org/event/primary-election-go-vote-2/
LOCATION:IL
ATTACH;FMTTYPE=image/png:https://www.mcfb.org/wp-content/uploads/2026/02/26_GOTV_PrimaryElection.png
END:VEVENT
END:VCALENDAR