BEGIN:VCALENDAR
VERSION:2.0
PRODID:-//McLean County Farm Bureau - ECPv6.15.20//NONSGML v1.0//EN
CALSCALE:GREGORIAN
METHOD:PUBLISH
X-WR-CALNAME:McLean County Farm Bureau
X-ORIGINAL-URL:https://www.mcfb.org
X-WR-CALDESC:Events for McLean County Farm Bureau
REFRESH-INTERVAL;VALUE=DURATION:PT1H
X-Robots-Tag:noindex
X-PUBLISHED-TTL:PT1H
BEGIN:VTIMEZONE
TZID:America/Chicago
BEGIN:DAYLIGHT
TZOFFSETFROM:-0600
TZOFFSETTO:-0500
TZNAME:CDT
DTSTART:20250309T080000
END:DAYLIGHT
BEGIN:STANDARD
TZOFFSETFROM:-0500
TZOFFSETTO:-0600
TZNAME:CST
DTSTART:20251102T070000
END:STANDARD
BEGIN:DAYLIGHT
TZOFFSETFROM:-0600
TZOFFSETTO:-0500
TZNAME:CDT
DTSTART:20260308T080000
END:DAYLIGHT
BEGIN:STANDARD
TZOFFSETFROM:-0500
TZOFFSETTO:-0600
TZNAME:CST
DTSTART:20261101T070000
END:STANDARD
BEGIN:DAYLIGHT
TZOFFSETFROM:-0600
TZOFFSETTO:-0500
TZNAME:CDT
DTSTART:20270314T080000
END:DAYLIGHT
BEGIN:STANDARD
TZOFFSETFROM:-0500
TZOFFSETTO:-0600
TZNAME:CST
DTSTART:20271107T070000
END:STANDARD
END:VTIMEZONE
BEGIN:VEVENT
DTSTART;TZID=America/Chicago:20260303T180000
DTEND;TZID=America/Chicago:20260303T193000
DTSTAMP:20260421T093734
CREATED:20260202T190744Z
LAST-MODIFIED:20260202T190744Z
UID:13105-1772560800-1772566200@www.mcfb.org
SUMMARY:Rules for the Road - Gilman
DESCRIPTION:Sit in this workshop at Ford-Iroquois Farm Bureau to hear updates about new trucking regulations and get your transportation questions answered with with Illinois Farm Bureau transportation expert\, Rodney Knittel.
URL:https://www.mcfb.org/event/rules-for-the-road-gilman-2/
LOCATION:Ford-Iroquois County Farm Bureau\, 1381 S Crescent Street\, Gilman\, IL\, 60938\, United States
ATTACH;FMTTYPE=image/png:https://www.mcfb.org/wp-content/uploads/2026/02/D25-GAC_Transportation_RFTR_2026_FW_QP_1.png
END:VEVENT
END:VCALENDAR