BEGIN:VCALENDAR
VERSION:2.0
PRODID:-//McLean County Farm Bureau - ECPv6.15.20//NONSGML v1.0//EN
CALSCALE:GREGORIAN
METHOD:PUBLISH
X-ORIGINAL-URL:https://www.mcfb.org
X-WR-CALDESC:Events for McLean County Farm Bureau
REFRESH-INTERVAL;VALUE=DURATION:PT1H
X-Robots-Tag:noindex
X-PUBLISHED-TTL:PT1H
BEGIN:VTIMEZONE
TZID:America/Chicago
BEGIN:DAYLIGHT
TZOFFSETFROM:-0600
TZOFFSETTO:-0500
TZNAME:CDT
DTSTART:20250309T080000
END:DAYLIGHT
BEGIN:STANDARD
TZOFFSETFROM:-0500
TZOFFSETTO:-0600
TZNAME:CST
DTSTART:20251102T070000
END:STANDARD
BEGIN:DAYLIGHT
TZOFFSETFROM:-0600
TZOFFSETTO:-0500
TZNAME:CDT
DTSTART:20260308T080000
END:DAYLIGHT
BEGIN:STANDARD
TZOFFSETFROM:-0500
TZOFFSETTO:-0600
TZNAME:CST
DTSTART:20261101T070000
END:STANDARD
BEGIN:DAYLIGHT
TZOFFSETFROM:-0600
TZOFFSETTO:-0500
TZNAME:CDT
DTSTART:20270314T080000
END:DAYLIGHT
BEGIN:STANDARD
TZOFFSETFROM:-0500
TZOFFSETTO:-0600
TZNAME:CST
DTSTART:20271107T070000
END:STANDARD
END:VTIMEZONE
BEGIN:VEVENT
DTSTART;TZID=America/Chicago:20260124T190000
DTEND;TZID=America/Chicago:20260124T210000
DTSTAMP:20260421T125437
CREATED:20251216T210759Z
LAST-MODIFIED:20260105T205413Z
UID:12977-1769281200-1769288400@www.mcfb.org
SUMMARY:Young Leaders - Bison Hockey Ag Night
DESCRIPTION:Cheer on the Bloomington Bison hockey team during their Ag Night with the MCFB Young Leaders on Jan. 24 @ 7:00 pm. Register below by Jan. 16th. Tickets to attend with MCFB Young Leaders is $10/ticket. Tickets can be picked up at will call the evening of the event.
URL:https://www.mcfb.org/event/young-leaders-bison-hockey-ag-night/
LOCATION:Grossinger Motors Arena
ATTACH;FMTTYPE=image/png:https://www.mcfb.org/wp-content/uploads/2025/12/thumbnail_BLM_AgRoute66_600x400.png
END:VEVENT
END:VCALENDAR