BEGIN:VCALENDAR
VERSION:2.0
PRODID:-//McLean County Farm Bureau - ECPv6.15.20//NONSGML v1.0//EN
CALSCALE:GREGORIAN
METHOD:PUBLISH
X-ORIGINAL-URL:https://www.mcfb.org
X-WR-CALDESC:Events for McLean County Farm Bureau
REFRESH-INTERVAL;VALUE=DURATION:PT1H
X-Robots-Tag:noindex
X-PUBLISHED-TTL:PT1H
BEGIN:VTIMEZONE
TZID:America/Chicago
BEGIN:DAYLIGHT
TZOFFSETFROM:-0600
TZOFFSETTO:-0500
TZNAME:CDT
DTSTART:20250309T080000
END:DAYLIGHT
BEGIN:STANDARD
TZOFFSETFROM:-0500
TZOFFSETTO:-0600
TZNAME:CST
DTSTART:20251102T070000
END:STANDARD
BEGIN:DAYLIGHT
TZOFFSETFROM:-0600
TZOFFSETTO:-0500
TZNAME:CDT
DTSTART:20260308T080000
END:DAYLIGHT
BEGIN:STANDARD
TZOFFSETFROM:-0500
TZOFFSETTO:-0600
TZNAME:CST
DTSTART:20261101T070000
END:STANDARD
BEGIN:DAYLIGHT
TZOFFSETFROM:-0600
TZOFFSETTO:-0500
TZNAME:CDT
DTSTART:20270314T080000
END:DAYLIGHT
BEGIN:STANDARD
TZOFFSETFROM:-0500
TZOFFSETTO:-0600
TZNAME:CST
DTSTART:20271107T070000
END:STANDARD
END:VTIMEZONE
BEGIN:VEVENT
DTSTART;TZID=America/Chicago:20260120T080000
DTEND;TZID=America/Chicago:20260120T170000
DTSTAMP:20260421T125422
CREATED:20251218T174531Z
LAST-MODIFIED:20251218T175041Z
UID:12989-1768896000-1768928400@www.mcfb.org
SUMMARY:2026 Winter Wheat Forum
DESCRIPTION:Illinois Wheat Association (IWA) is inviting farmers and researchers to learn best field practices and strategies from top Illinois double-crop farmers during the annual 2026 Winter Wheat Double Crop Forum. \nThe forum will be held Jan. 20 at the Rend Lake Event Center in Ina. Registration is $25 for IWA members and $50 for non-members. Visit www.illinoiswheat.org or call 309-557-3619 for more information or to register. Registration is preferred by Jan. 9 but will be accepted at the door. The event will kick off with the IWA annual meeting at 8:30 a.m. \nThe 2026 Double Crop Farmers Forum is an opportunity for farmers and researchers to hear from top Illinois wheat growers and researchers throughout the Midwest on a variety of topics. In addition to hearing from IWA leaders\, attendees will hear an update on policy issues impacting wheat growers from the National Association of Wheat Growers CEO Sam Kieffer. Attendees will also hear about ongoing research from the University of Illinois and Illinois Soybean Association.
URL:https://www.mcfb.org/event/2026-winter-wheat-forum/
LOCATION:IL
ATTACH;FMTTYPE=image/jpeg:https://www.mcfb.org/wp-content/uploads/2025/12/599635209_122152546664896192_9132459904791659829_n.jpg
END:VEVENT
END:VCALENDAR